BEGIN:VCALENDAR
VERSION:2.0
PRODID:-//CATAPA vzw - ECPv6.10.2//NONSGML v1.0//EN
CALSCALE:GREGORIAN
METHOD:PUBLISH
X-ORIGINAL-URL:https://catapa.be/nl/
X-WR-CALDESC:Evenementen voor CATAPA vzw
REFRESH-INTERVAL;VALUE=DURATION:PT1H
X-Robots-Tag:noindex
X-PUBLISHED-TTL:PT1H
BEGIN:VTIMEZONE
TZID:Europe/Brussels
BEGIN:DAYLIGHT
TZOFFSETFROM:+0100
TZOFFSETTO:+0200
TZNAME:CEST
DTSTART:20240331T010000
END:DAYLIGHT
BEGIN:STANDARD
TZOFFSETFROM:+0200
TZOFFSETTO:+0100
TZNAME:CET
DTSTART:20241027T010000
END:STANDARD
BEGIN:DAYLIGHT
TZOFFSETFROM:+0100
TZOFFSETTO:+0200
TZNAME:CEST
DTSTART:20250330T010000
END:DAYLIGHT
BEGIN:STANDARD
TZOFFSETFROM:+0200
TZOFFSETTO:+0100
TZNAME:CET
DTSTART:20251026T010000
END:STANDARD
END:VTIMEZONE
BEGIN:VEVENT
DTSTART;TZID=Europe/Brussels:20250401T200000
DTEND;TZID=Europe/Brussels:20250401T223000
DTSTAMP:20260419T191251
CREATED:20250304T182853Z
LAST-MODIFIED:20250304T193724Z
UID:10000095-1743537600-1743546600@catapa.be
SUMMARY:Land in verzet: Savanna and the Mountain
DESCRIPTION:Land in verzet brengt je de stemmen van zij die geen maatpakken dragen of parlementaire platforms bestijgen. De stemmen in de ecologische frontlinie\, in strijd tegen mijnbouwmultinationals. De films ‘Illusion of Abundance’ en ‘Savanna and the Mountain’ belichten beide de strijd van gemeenschappen om hun leven\, gezondheid en toekomst te beschermen\, van Brazilië tot Portugal. Deze screening toont de tweede film\, bekijk onze eventpagina en ontdek de screenings voor de eerste film. \nThe Illusion of Abundance is niet alleen een film over zij die de hoge prijs voor ‘ontwikkeling’ en ‘vooruitgang’ betalen. Het is bovenal een film over de globalisering van hun ecologisch verzet en hun doorzetting in het opjagen van misdadige multinationals\, waar ze zich ook verbergen. \nDe gemeenschap van Covas do Barroso\, in het noorden van Portugal\, ontdekt dat het Brits bedrijf Savannah Resources de grootste open-put-lithium-mijn plant op amper een paar meter van hun huizen. Geconfronteerd met dreiging\, besluit het Volk zich te organiseren en het bedrijf van hun land te verdrijven. \nDe groene transitie is een théma. Volgens heersende politici is meer mijnbouw nodig om lithium te pakken te krijgen voor de elektrificatie van de samenleving en om onze economie een boost te geven. De mijnbouwindustrie wil meer extractie als brandstof voor eindeloze consumptie. Een stem die daarbij nauwelijks wordt gehoord is die van gemeenschappen wier thuis wordt bedreigd door mijnbouw. Het zijn zij die nochtans de destructie\, vervuiling en maatschappelijke schade van het extractivisme doormaken. \nOpbrengsten van de vertoningen gaan naar gemeenschappen die vechten tegen mijnbouw. Beide films worden geïntroduceerd door de regisseurs. Blijf hangen voor een interessant nagesprek.
URL:https://catapa.be/nl/event/land-in-verzet-savanna-and-the-mountain-2/
LOCATION:De Koer\, Meibloemstraat 86\, Gent\, 9000\, Belgium
CATEGORIES:Right To Say No
ATTACH;FMTTYPE=image/jpeg:https://catapa.be/wp-content/uploads/2025/03/Untitled-design-4.jpg
END:VEVENT
BEGIN:VEVENT
DTSTART;TZID=Europe/Brussels:20250330T200000
DTEND;TZID=Europe/Brussels:20250330T223000
DTSTAMP:20260419T191251
CREATED:20250304T182635Z
LAST-MODIFIED:20250304T193842Z
UID:10000094-1743364800-1743373800@catapa.be
SUMMARY:Land in verzet: Savanna and the Mountain
DESCRIPTION:Land in verzet brengt je de stemmen van zij die geen maatpakken dragen of parlementaire platforms bestijgen. De stemmen in de ecologische frontlinie\, in strijd tegen mijnbouwmultinationals. De films ‘Illusion of Abundance’ en ‘Savanna and the Mountain’ belichten beide de strijd van gemeenschappen om hun leven\, gezondheid en toekomst te beschermen\, van Brazilië tot Portugal. Deze screening toont de tweede film\, bekijk onze eventpagina en ontdek de screenings voor de eerste film. \nThe Illusion of Abundance is niet alleen een film over zij die de hoge prijs voor ‘ontwikkeling’ en ‘vooruitgang’ betalen. Het is bovenal een film over de globalisering van hun ecologisch verzet en hun doorzetting in het opjagen van misdadige multinationals\, waar ze zich ook verbergen. \nDe gemeenschap van Covas do Barroso\, in het noorden van Portugal\, ontdekt dat het Brits bedrijf Savannah Resources de grootste open-put-lithium-mijn plant op amper een paar meter van hun huizen. Geconfronteerd met dreiging\, besluit het Volk zich te organiseren en het bedrijf van hun land te verdrijven. \nDe groene transitie is een théma. Volgens heersende politici is meer mijnbouw nodig om lithium te pakken te krijgen voor de elektrificatie van de samenleving en om onze economie een boost te geven. De mijnbouwindustrie wil meer extractie als brandstof voor eindeloze consumptie. Een stem die daarbij nauwelijks wordt gehoord is die van gemeenschappen wier thuis wordt bedreigd door mijnbouw. Het zijn zij die nochtans de destructie\, vervuiling en maatschappelijke schade van het extractivisme doormaken. \nOpbrengsten van de vertoningen gaan naar gemeenschappen die vechten tegen mijnbouw. Beide films worden geïntroduceerd door de regisseurs. Blijf hangen voor een interessant nagesprek.
URL:https://catapa.be/nl/event/land-in-verzet-savanna-and-the-mountain/
LOCATION:Filmhuis Klappei\, Klappeistraat 2\, Antwerpen\, 2060\, Belgium
CATEGORIES:Right To Say No
ATTACH;FMTTYPE=image/jpeg:https://catapa.be/wp-content/uploads/2025/03/Untitled-design-4.jpg
END:VEVENT
BEGIN:VEVENT
DTSTART;TZID=Europe/Brussels:20250326T190000
DTEND;TZID=Europe/Brussels:20250326T223000
DTSTAMP:20260419T191251
CREATED:20250304T182030Z
LAST-MODIFIED:20250304T185257Z
UID:10000093-1743015600-1743028200@catapa.be
SUMMARY:Land in verzet: Illusion of Abundance
DESCRIPTION:Land in verzet brengt je de stemmen van zij die geen maatpakken dragen of parlementaire platforms bestijgen. De stemmen in de ecologische frontlinie\, in strijd tegen mijnbouwmultinationals. De films ‘Illusion of Abundance’ en ‘Savanna and the Mountain’ belichten beide de strijd van gemeenschappen om hun leven\, gezondheid en toekomst te beschermen\, van Brazilië tot Portugal. Deze screening toont de eerste film\, bekijk onze eventpagina en ontdek de screenings voor de tweede film. \nThe Illusion of Abundance is niet alleen een film over zij die de hoge prijs voor ‘ontwikkeling’ en ‘vooruitgang’ betalen. Het is bovenal een film over de globalisering van hun ecologisch verzet en hun doorzetting in het opjagen van misdadige multinationals\, waar ze zich ook verbergen. \nDe gemeenschap van Covas do Barroso\, in het noorden van Portugal\, ontdekt dat het Brits bedrijf Savannah Resources de grootste open-put-lithium-mijn plant op amper een paar meter van hun huizen. Geconfronteerd met dreiging\, besluit het Volk zich te organiseren en het bedrijf van hun land te verdrijven. \nDe groene transitie is een théma. Volgens heersende politici is meer mijnbouw nodig om lithium te pakken te krijgen voor de elektrificatie van de samenleving en om onze economie een boost te geven. De mijnbouwindustrie wil meer extractie als brandstof voor eindeloze consumptie. Een stem die daarbij nauwelijks wordt gehoord is die van gemeenschappen wier thuis wordt bedreigd door mijnbouw. Het zijn zij die nochtans de destructie\, vervuiling en maatschappelijke schade van het extractivisme doormaken. \nOpbrengsten van de vertoningen gaan naar gemeenschappen die vechten tegen mijnbouw. Beide films worden geïntroduceerd door de regisseurs. Blijf hangen voor een interessant nagesprek.
URL:https://catapa.be/nl/event/land-in-verzet-illusion-of-abundance-4/
LOCATION:VUB\, Pleinlaan 2\, Campus Etterbeek\, room D.0.05
CATEGORIES:Right To Say No
ATTACH;FMTTYPE=image/jpeg:https://catapa.be/wp-content/uploads/2025/03/Untitled-design-4.jpg
END:VEVENT
BEGIN:VEVENT
DTSTART;TZID=Europe/Brussels:20250325T200000
DTEND;TZID=Europe/Brussels:20250325T223000
DTSTAMP:20260419T191251
CREATED:20250304T180025Z
LAST-MODIFIED:20250304T193220Z
UID:10000092-1742932800-1742941800@catapa.be
SUMMARY:Land in verzet: Illusion of Abundance
DESCRIPTION:Land in verzet brengt je de stemmen van zij die geen maatpakken dragen of parlementaire platforms bestijgen. De stemmen in de ecologische frontlinie\, in strijd tegen mijnbouwmultinationals. De films ‘Illusion of Abundance’ en ‘Savanna and the Mountain’ belichten beide de strijd van gemeenschappen om hun leven\, gezondheid en toekomst te beschermen\, van Brazilië tot Portugal. Deze screening toont de eerste film\, bekijk onze eventpagina en ontdek de screenings voor de tweede film. \nThe Illusion of Abundance is niet alleen een film over zij die de hoge prijs voor ‘ontwikkeling’ en ‘vooruitgang’ betalen. Het is bovenal een film over de globalisering van hun ecologisch verzet en hun doorzetting in het opjagen van misdadige multinationals\, waar ze zich ook verbergen. \nDe gemeenschap van Covas do Barroso\, in het noorden van Portugal\, ontdekt dat het Brits bedrijf Savannah Resources de grootste open-put-lithium-mijn plant op amper een paar meter van hun huizen. Geconfronteerd met dreiging\, besluit het Volk zich te organiseren en het bedrijf van hun land te verdrijven. \nDe groene transitie is een théma. Volgens heersende politici is meer mijnbouw nodig om lithium te pakken te krijgen voor de elektrificatie van de samenleving en om onze economie een boost te geven. De mijnbouwindustrie wil meer extractie als brandstof voor eindeloze consumptie. Een stem die daarbij nauwelijks wordt gehoord is die van gemeenschappen wier thuis wordt bedreigd door mijnbouw. Het zijn zij die nochtans de destructie\, vervuiling en maatschappelijke schade van het extractivisme doormaken. \nOpbrengsten van de vertoningen gaan naar gemeenschappen die vechten tegen mijnbouw. Beide films worden geïntroduceerd door de regisseurs. Blijf hangen voor een interessant nagesprek.
URL:https://catapa.be/nl/event/land-in-verzet-illusion-of-abundance-3/
LOCATION:De Koer\, Meibloemstraat 86\, Gent\, 9000\, Belgium
CATEGORIES:Right To Say No
ATTACH;FMTTYPE=image/jpeg:https://catapa.be/wp-content/uploads/2025/03/Untitled-design-4.jpg
END:VEVENT
BEGIN:VEVENT
DTSTART;TZID=Europe/Brussels:20250323T200000
DTEND;TZID=Europe/Brussels:20250323T223000
DTSTAMP:20260419T191251
CREATED:20250304T175516Z
LAST-MODIFIED:20250304T175516Z
UID:10000091-1742760000-1742769000@catapa.be
SUMMARY:Land in verzet: Illusion of Abundance
DESCRIPTION:Land in verzet brengt je de stemmen van zij die geen maatpakken dragen of parlementaire platforms bestijgen. De stemmen in de ecologische frontlinie\, in strijd tegen mijnbouwmultinationals. De films ‘Illusion of Abundance’ en ‘Savanna and the Mountain’ belichten beide de strijd van gemeenschappen om hun leven\, gezondheid en toekomst te beschermen\, van Brazilië tot Portugal. Deze screening toont de eerste film\, bekijk onze eventpagina en ontdek de screenings voor de tweede film. \nThe Illusion of Abundance is niet alleen een film over zij die de hoge prijs voor ‘ontwikkeling’ en ‘vooruitgang’ betalen. Het is bovenal een film over de globalisering van hun ecologisch verzet en hun doorzetting in het opjagen van misdadige multinationals\, waar ze zich ook verbergen. \nDe gemeenschap van Covas do Barroso\, in het noorden van Portugal\, ontdekt dat het Brits bedrijf Savannah Resources de grootste open-put-lithium-mijn plant op amper een paar meter van hun huizen. Geconfronteerd met dreiging\, besluit het Volk zich te organiseren en het bedrijf van hun land te verdrijven. \nDe groene transitie is een théma. Volgens heersende politici is meer mijnbouw nodig om lithium te pakken te krijgen voor de elektrificatie van de samenleving en om onze economie een boost te geven. De mijnbouwindustrie wil meer extractie als brandstof voor eindeloze consumptie. Een stem die daarbij nauwelijks wordt gehoord is die van gemeenschappen wier thuis wordt bedreigd door mijnbouw. Het zijn zij die nochtans de destructie\, vervuiling en maatschappelijke schade van het extractivisme doormaken. \nOpbrengsten van de vertoningen gaan naar gemeenschappen die vechten tegen mijnbouw. Beide films worden geïntroduceerd door de regisseurs. Blijf hangen voor een interessant nagesprek.
URL:https://catapa.be/nl/event/land-in-verzet-illusion-of-abundance-2/
LOCATION:Filmhuis Klappei\, Klappeistraat 2\, Antwerpen\, 2060\, Belgium
CATEGORIES:Right To Say No
ATTACH;FMTTYPE=image/jpeg:https://catapa.be/wp-content/uploads/2025/03/Untitled-design-4.jpg
END:VEVENT
BEGIN:VEVENT
DTSTART;TZID=Europe/Brussels:20250311T200000
DTEND;TZID=Europe/Brussels:20250311T223000
DTSTAMP:20260419T191251
CREATED:20250304T172704Z
LAST-MODIFIED:20250304T174835Z
UID:10000046-1741723200-1741732200@catapa.be
SUMMARY:Land in verzet: Illusion of Abundance
DESCRIPTION:Land in verzet brengt je de stemmen van zij die geen maatpakken dragen of parlementaire platforms bestijgen. De stemmen in de ecologische frontlinie\, in strijd tegen mijnbouwmultinationals. De films ‘Illusion of Abundance’ en ‘Savanna and the Mountain’ belichten beide de strijd van gemeenschappen om hun leven\, gezondheid en toekomst te beschermen\, van Brazilië tot Portugal. Deze screening toont de eerste film\, bekijk onze eventpagina en ontdek de screenings voor de tweede film. \nThe Illusion of Abundance is niet alleen een film over zij die de hoge prijs voor ‘ontwikkeling’ en ‘vooruitgang’ betalen. Het is bovenal een film over de globalisering van hun ecologisch verzet en hun doorzetting in het opjagen van misdadige multinationals\, waar ze zich ook verbergen. \nDe gemeenschap van Covas do Barroso\, in het noorden van Portugal\, ontdekt dat het Brits bedrijf Savannah Resources de grootste open-put-lithium-mijn plant op amper een paar meter van hun huizen. Geconfronteerd met dreiging\, besluit het Volk zich te organiseren en het bedrijf van hun land te verdrijven. \nDe groene transitie is een théma. Volgens heersende politici is meer mijnbouw nodig om lithium te pakken te krijgen voor de elektrificatie van de samenleving en om onze economie een boost te geven. De mijnbouwindustrie wil meer extractie als brandstof voor eindeloze consumptie. Een stem die daarbij nauwelijks wordt gehoord is die van gemeenschappen wier thuis wordt bedreigd door mijnbouw. Het zijn zij die nochtans de destructie\, vervuiling en maatschappelijke schade van het extractivisme doormaken. \nOpbrengsten van de vertoningen gaan naar gemeenschappen die vechten tegen mijnbouw. Beide films worden geïntroduceerd door de regisseurs. Blijf hangen voor een interessant nagesprek.
URL:https://catapa.be/nl/event/land-in-verzet-illusion-of-abundance/
LOCATION:Pangea KU Leuven\, Andreas Vesaliusstraat 34\, Leuven\, 3000\, Belgium
CATEGORIES:Right To Say No
ATTACH;FMTTYPE=image/jpeg:https://catapa.be/wp-content/uploads/2025/03/Untitled-design-4.jpg
END:VEVENT
BEGIN:VEVENT
DTSTART;TZID=Europe/Brussels:20240328T180000
DTEND;TZID=Europe/Brussels:20240328T193000
DTSTAMP:20260419T191251
CREATED:20240304T162618Z
LAST-MODIFIED:20240307T151229Z
UID:10000075-1711648800-1711654200@catapa.be
SUMMARY:Van Colombia tot Brussel: een gesprek met milieuverdedigers
DESCRIPTION:Carolina en Wilder\, twee activisten uit Falan\, Colombia\, bouwen een beweging om hun regio te verdedigen tegen mijnbouwbedrijven en hun kolonialisme. Ze hebben het recht om nee te zeggen tegen de vernietiging van hun regio. Komt naar de events tijdens de Right to Say No Tour om te horen over de ervaringen van deze milieuverdedigers\, hoe onze “groene” transitie een impact heeft op hun levens en hoe degrowht hun strijd kan helpen. \nCarolina en Wilder komen naar België om hun strijd tegen mijnbouw in Colombia te delen en te vertellen over hoe dat gepaard gaat met angst en het risico om geïntimideerd\, gestigmatiseerd en vervolgd te worden. De Right to Say No Tour maakt mensen bewust of deze onrechtvaardigheid en wil een steunnetwerk creëren voor milieuverdedigers\, zodat zij\, wanneer ze terugkeren naar Colombia\, de nodige middelen hebben om hun thuis te beschermen! \nOntmoet Carolina en Wilder voor een lezing gevolgd door een Q&A sessie. Wees erbij op 28 maart\, 2024 (18u – 19u30) in VUB\, Gebouw I.
URL:https://catapa.be/nl/event/from-colombia-to-brussels-a-conversation-with-environmental-defenders/
LOCATION:Vrije Universiteit Brussel\, Pleinlaan 2\, Brussels\, Belgium
CATEGORIES:Right To Say No
ATTACH;FMTTYPE=image/png:https://catapa.be/wp-content/uploads/2024/03/Right-to-sayPRUEBA-e1709570173901.png
END:VEVENT
BEGIN:VEVENT
DTSTART;TZID=Europe/Brussels:20240325T193000
DTEND;TZID=Europe/Brussels:20240325T210000
DTSTAMP:20260419T191251
CREATED:20240304T162753Z
LAST-MODIFIED:20240307T153407Z
UID:10000077-1711395000-1711400400@catapa.be
SUMMARY:Mijnbouw in Colombia: ontmoet de milieuverdedigers
DESCRIPTION:Carolina en Wilder\, twee activisten uit Falan\, Colombia\, bouwen een beweging om hun regio te verdedigen tegen mijnbouwbedrijven en hun kolonialisme. Ze hebben het recht om nee te zeggen tegen de vernietiging van hun regio. Komt naar de events tijdens de Right to Say No Tour om te horen over de ervaringen van deze milieuverdedigers\, hoe onze “groene” transitie een impact heeft op hun levens en hoe degrowht hun strijd kan helpen. \nCarolina en Wilder komen naar België om hun strijd tegen mijnbouw in Colombia te delen en te vertellen over hoe dat gepaard gaat met angst en het risico om geïntimideerd\, gestigmatiseerd en vervolgd te worden. De Right to Say No Tour maakt mensen bewust of deze onrechtvaardigheid en wil een steunnetwerk creëren voor milieuverdedigers\, zodat zij\, wanneer ze terugkeren naar Colombia\, de nodige middelen hebben om hun thuis te beschermen! \nOntmoet Carolina en Wilder voor een lezing gevolgd door een Q&A sessie. Wees erbij op 25 maart\, 2024 (19u30 – 21u) in de universiteit van Antwerpen\, Stadscampus – Zomaar een dak\, Prinsstraat 32.
URL:https://catapa.be/nl/event/mining-in-colombia-meet-the-environmental-defenders/
LOCATION:Stadscampus – Zomaar een dak\, Prinsstraat 32\, Antwerpen\, 2000\, Belgium
CATEGORIES:Right To Say No
ATTACH;FMTTYPE=image/png:https://catapa.be/wp-content/uploads/2024/03/Right-to-sayPRUEBA-e1709570173901.png
END:VEVENT
BEGIN:VEVENT
DTSTART;TZID=Europe/Brussels:20240325T193000
DTEND;TZID=Europe/Brussels:20240325T210000
DTSTAMP:20260419T191252
CREATED:20240304T162339Z
LAST-MODIFIED:20240307T160441Z
UID:10000071-1711395000-1711400400@catapa.be
SUMMARY:Gesprek met milieuverdedigers: van Colombia tot Leuven
DESCRIPTION:Carolina en Wilder\, twee activisten uit Falan\, Colombia\, bouwen een beweging om hun regio te verdedigen tegen mijnbouwbedrijven en hun kolonialisme. Ze hebben het recht om nee te zeggen tegen de vernietiging van hun regio. Komt naar de events tijdens de Right to Say No Tour om te horen over de ervaringen van deze milieuverdedigers\, hoe onze “groene” transitie een impact heeft op hun levens en hoe degrowht hun strijd kan helpen. \nCarolina en Wilder komen naar België om hun strijd tegen mijnbouw in Colombia te delen en te vertellen over hoe dat gepaard gaat met angst en het risico om geïntimideerd\, gestigmatiseerd en vervolgd te worden. De Right to Say No Tour maakt mensen bewust of deze onrechtvaardigheid en wil een steunnetwerk creëren voor milieuverdedigers\, zodat zij\, wanneer ze terugkeren naar Colombia\, de nodige middelen hebben om hun thuis te beschermen! \nOntmoet Carolina en Wilder voor een lezing gevolgd door een Q&A sessie. Wees erbij op 25 maart\, 2024 (19u30 – 21u) in KU Leuven\, Pangaea\, Campus sociale wetenschappen in de Afrika ruimte.
URL:https://catapa.be/nl/event/conversation-with-environmental-defenders-from-colombia-to-leuven/
LOCATION:KU Leuven\, Leuven\, Belgium
CATEGORIES:Right To Say No
ATTACH;FMTTYPE=image/png:https://catapa.be/wp-content/uploads/2024/03/Right-to-sayPRUEBA-e1709570173901.png
END:VEVENT
BEGIN:VEVENT
DTSTART;TZID=Europe/Brussels:20240318T193000
DTEND;TZID=Europe/Brussels:20240318T210000
DTSTAMP:20260419T191252
CREATED:20240304T163634Z
LAST-MODIFIED:20240307T150442Z
UID:10000079-1710790200-1710795600@catapa.be
SUMMARY:Degrowth versus groen kapitalisme : hoe mijnbouw in Colombia gemeenschappen vernietigt
DESCRIPTION:In Falan\, Colombia\, is het gevecht tegen mijnbouw voor milieuverdedigers een dagelijkse strijd. Carolina Monje en Wilder Aguilar\, twee Colombiaanse activisten\, delen het verhaal van hun gemeenschap en het belang van het recht om ‘nee’ te zeggen tegen mijnbouw. Dit verzet tegen mijnbouwprojecten lijkt op het eerste gezicht ver van ons bed\, maar is een van de gevolgen van het huidige systeem dat uitgaat van ongeremde economische groei en consumptie. Elze Vermaas van Denktank Oikos licht zijn visie toe over de noodzaak om onze economie radicaal om te buigen.\n\nTijdens dit evenement ontdek jij hoe je deel kan uitmaken van een beweging die ‘nee’ zegt tegen ongeremde groei en ‘ja’ zegt tegen ontgroeien (degrowth) en ontmijnen.\n\nPrijs : € 6 | € 5 leden | € 3 -25 jaar en sociaal tarief\n\nInschrijven voor dit evenement kan via brugge@masereelfonds.be
URL:https://catapa.be/nl/event/degrowth-versus-groen-kapitalisme-hoe-mijnbouw-in-colombia-gemeenschappen-vernietigt/
LOCATION:Snuffel Hostel\, Ezelstraat 42\, Brugge\, 8000
CATEGORIES:Right To Say No
ATTACH;FMTTYPE=image/png:https://catapa.be/wp-content/uploads/2024/03/Right-to-sayPRUEBA-e1709570173901.png
END:VEVENT
BEGIN:VEVENT
DTSTART;TZID=Europe/Brussels:20240315T130000
DTEND;TZID=Europe/Brussels:20240315T150000
DTSTAMP:20260419T191252
CREATED:20240130T134536Z
LAST-MODIFIED:20240306T142816Z
UID:10000063-1710507600-1710514800@catapa.be
SUMMARY:Vertalingsworkshop 3
DESCRIPTION:Zoals elk jaar krijgen heel wat vrijwilligers de kans om te vertalen wanneer onze gastsprekers op bezoek zijn (Engels – Spaans en omgekeerd). We bieden je een geweldige manier om je taalvaardigheden te trainen én dankzij ervaren Catapistas simultaanvertaling te leren.\nWe organiseren drie gratis sessies vol tips en praktische oefeningen. Grijp deze kans! \nVragen? Mail Catapista Justine\nVertaal je mee? Vul dan dit formulier in!
URL:https://catapa.be/nl/event/vertalingsworkshop-3/
CATEGORIES:Right To Say No
ATTACH;FMTTYPE=image/jpeg:https://catapa.be/wp-content/uploads/2024/01/interpreting-workshops-eventpic.jpg
END:VEVENT
BEGIN:VEVENT
DTSTART;TZID=Europe/Brussels:20240312T193000
DTEND;TZID=Europe/Brussels:20240312T210000
DTSTAMP:20260419T191252
CREATED:20240130T103302Z
LAST-MODIFIED:20240202T112405Z
UID:10000060-1710271800-1710277200@catapa.be
SUMMARY:Public Speaking workshop 2
DESCRIPTION:Wil je de vaardigheden en het vertrouwen krijgen om CATAPA’s en jouw meningen\, kennis en ideeën voor een publiek te vertegenwoordigen? Bijvoorbeeld vol vertrouwen naar een panel of zelf CATAPA presenteren? Wil je tijdens een actie of evenement vragen van pers of omstaanders kunnen beantwoorden?\n\nDoe dan mee aan onze gratis public speaking workshops.\n\nJe kan twee sessies meevolgen want ze vullen elkaar aan\, maar je kan ook kiezen om maar één sessie mee te volgen.\n\nVragen? Mail Catapista Robin\nPraat je mee? Vul dan dit formulier in!
URL:https://catapa.be/nl/event/public-speaking-workshop-2/
LOCATION:EEB Office\, Belgium
CATEGORIES:Right To Say No
ATTACH;FMTTYPE=image/jpeg:https://catapa.be/wp-content/uploads/2024/01/public-speakingeventpic.jpg
END:VEVENT
BEGIN:VEVENT
DTSTART;TZID=Europe/Brussels:20240228T193000
DTEND;TZID=Europe/Brussels:20240228T213000
DTSTAMP:20260419T191252
CREATED:20240130T134013Z
LAST-MODIFIED:20240202T112123Z
UID:10000061-1709148600-1709155800@catapa.be
SUMMARY:Vertalingsworkshop 2
DESCRIPTION:Zoals elk jaar krijgen heel wat vrijwilligers de kans om te vertalen wanneer onze gastsprekers op bezoek zijn (Engels – Spaans en omgekeerd). We bieden je een geweldige manier om je taalvaardigheden te trainen én dankzij ervaren Catapistas simultaanvertaling te leren.\nWe organiseren drie gratis sessies vol tips en praktische oefeningen. We organiseren drie gratis sessies vol tips en praktische oefeningen: \n\nTwee workshops met ervaren Catapista’s: 8/2 & 28/2\nEén oefensessie mét de sprekers waarvoor je zal vertalen 16/3\n\nVragen? Mail Catapista Justine\nVertaal je mee? Vul dan dit formulier in!
URL:https://catapa.be/nl/event/vertalingsworkshop-2/
CATEGORIES:Right To Say No
ATTACH;FMTTYPE=image/jpeg:https://catapa.be/wp-content/uploads/2024/01/interpreting-workshops-eventpic.jpg
END:VEVENT
BEGIN:VEVENT
DTSTART;TZID=Europe/Brussels:20240208T193000
DTEND;TZID=Europe/Brussels:20240208T213000
DTSTAMP:20260419T191252
CREATED:20240129T165249Z
LAST-MODIFIED:20240202T111752Z
UID:10000056-1707420600-1707427800@catapa.be
SUMMARY:Vertalingsworkshop 1
DESCRIPTION:Zoals elk jaar krijgen heel wat vrijwilligers de kans om te vertalen wanneer onze gastsprekers op bezoek zijn (Engels – Spaans en omgekeerd). We bieden je een geweldige manier om je taalvaardigheden te trainen én dankzij ervaren Catapistas simultaanvertaling te leren.\nWe organiseren drie gratis sessies vol tips en praktische oefeningen: \n\nTwee workshops met ervaren Catapista’s: 8/2 & 28/2\nEén oefensessie mét de sprekers waarvoor je zal vertalen 16/3\n\nVragen? Mail Catapista Justine\nVertaal je mee? Vul dan dit formulier in!
URL:https://catapa.be/nl/event/vertalingsworkshop-1/
CATEGORIES:Right To Say No
ATTACH;FMTTYPE=image/jpeg:https://catapa.be/wp-content/uploads/2024/01/interpreting-workshops-eventpic.jpg
END:VEVENT
END:VCALENDAR